BEGIN:VCALENDAR
VERSION:2.0
PRODID:-//2050 - ECPv6.15.20//NONSGML v1.0//EN
CALSCALE:GREGORIAN
METHOD:PUBLISH
X-ORIGINAL-URL:https://2050.se
X-WR-CALDESC:Händelser för 2050
REFRESH-INTERVAL;VALUE=DURATION:PT1H
X-Robots-Tag:noindex
X-PUBLISHED-TTL:PT1H
BEGIN:VTIMEZONE
TZID:Europe/Stockholm
BEGIN:DAYLIGHT
TZOFFSETFROM:+0100
TZOFFSETTO:+0200
TZNAME:CEST
DTSTART:20250330T010000
END:DAYLIGHT
BEGIN:STANDARD
TZOFFSETFROM:+0200
TZOFFSETTO:+0100
TZNAME:CET
DTSTART:20251026T010000
END:STANDARD
BEGIN:DAYLIGHT
TZOFFSETFROM:+0100
TZOFFSETTO:+0200
TZNAME:CEST
DTSTART:20260329T010000
END:DAYLIGHT
BEGIN:STANDARD
TZOFFSETFROM:+0200
TZOFFSETTO:+0100
TZNAME:CET
DTSTART:20261025T010000
END:STANDARD
BEGIN:DAYLIGHT
TZOFFSETFROM:+0100
TZOFFSETTO:+0200
TZNAME:CEST
DTSTART:20270328T010000
END:DAYLIGHT
BEGIN:STANDARD
TZOFFSETFROM:+0200
TZOFFSETTO:+0100
TZNAME:CET
DTSTART:20271031T010000
END:STANDARD
END:VTIMEZONE
BEGIN:VEVENT
DTSTART;TZID=Europe/Stockholm:20260421T090000
DTEND;TZID=Europe/Stockholm:20260421T120000
DTSTAMP:20260419T204900
CREATED:20260128T092435Z
LAST-MODIFIED:20260128T093743Z
UID:10000148-1776762000-1776772800@2050.se
SUMMARY:Utbildning: VSME – värdeskapande rapportering
DESCRIPTION:« Alla Evenemang\n \n\n	Utbildning: VSME – värdeskapande rapportering\n			april 21\n	  kl\n09:00\n	  –\n12:00\n	 \nIntressentkrav samt lagkrav som omfattar större aktörer driver ett behov av ökad transparens avseende hållbarhet i värdekedjor. För att stötta mindre bolag kring kraven och förväntningarna avseende rapportering har EU tagit fram en frivillig rapporteringsstandard för små och medelstora bolag – VSME. Denna utbildning är anpassad för både bolag som vill använda VSME för att leva upp till viktiga intressenters förväntningar och/eller få verktyg för att förbättra hållbarhetsarbetet. Vi går även igenom när det kan vara lämpligt att rapportera utöver innehållet i VSME samt vilka andra rapporteringsalternativ som finns. \nSom ett stöd för de företag som inte omfattats av CSRD (Corporate Sustainability Reporting Directive) har EU utvecklat VSME-standarden (Voluntary Standard for SMEs)\, en rapporteringsstandard som gör det enklare för små och medelstora bolag (SME) att uppfylla hållbarhetskrav. Syftet är att skapa en mer flexibel och enhetlig hållbarhetsrapportering där hållbarhetsdata från SME:er blir jämförbar och användbar för större aktörer. \nVi kommer att belysa vilka rapporteringsalternativ som finns och hur kravbilden för SME ser ut\, samt hur VSME kan användas både i hållbarhetsarbetet och i rapporteringen. Dessutom diskuterar vi hur VSME kan bidra till att möta krav kopplade till klimat\, resursanvändning och leverantörsstyrning. \nKursinnehåll: \n\nSpelplanen ändras – vilka krav och förväntningar på SME driver behov av rapportering?\nVal av rapporteringsstandard – hur kan bolag navigera rapporteringsdjungeln?\nVSME – vad innehåller standarden och hur ska den användas?\nVärdeskapande rapportering – hur kan rapporteringen användas för att skapa konkurrensfördelar?\nPraktiska tips och exempel\n\nVarmt välkommen! \nDatum: Tisdagen den 21 april 2026Tid: 09:00–12:00Plats: DigitaltPris: 4 500 SEK exkl. moms per deltagare \n					\n									Läs mer och anmäl dig här\n					\n\n	\n	Lägg till i kalender	\n		\n	\n \n\n\n	Google Kalender\n\n\n	iCalendar\n\n\n	Outlook 365\n\n\n	Outlook Live\n\n\nUtbildningsledare: \n\n							\nIsabell Plars\n							Konsult \nKlimatberäkningar och analys\, riskanalys\, livscykelanalys\, klimatkompensation och kolinlagring\, CSRD och hållbarhetsrapportering. \n+46 73 681 37 37 \n									 \n\n							\nRebecka Jakobsson\n							Seniorkonsult \nHållbarhetsrapportering (CSRD\, årsredovisningslagen\, GRI\, TCFD\, taxonomin m.fl.) och strategisk hållbarhetsrådgivning. \n+46 70 217 68 91\n \n									 \n\n\n\n\n				Utbildning: Hållbara affärer – så räknar du på hållbarhetsarbetets lönsamhet	\n\n\n	\n		Utbildning: Klimatscenarioanalys i praktiken – steg för steg
URL:https://2050.se/event/utbildning-vsme-vardeskapande-rapportering/
LOCATION:Digitalt
CATEGORIES:Digitalt
ATTACH;FMTTYPE=image/jpeg:https://2050.se/wp-content/uploads/2025/05/Webinar_Omnibus.jpg
END:VEVENT
BEGIN:VEVENT
DTSTART;TZID=Europe/Stockholm:20260422T090000
DTEND;TZID=Europe/Stockholm:20260422T170000
DTSTAMP:20260419T204900
CREATED:20251120T110020Z
LAST-MODIFIED:20260122T142411Z
UID:10000124-1776848400-1776877200@2050.se
SUMMARY:Utbildning: Klimatscenarioanalys i praktiken – steg för steg
DESCRIPTION:« Alla Evenemang\n \n\n	Utbildning: Klimatscenarioanalys i praktiken – steg för steg\n			april 22\n	  kl\n09:00\n	  –\n17:00\n	 \nKlimatscenarioanalys är ett kraftfullt verktyg för att bedöma hur olika klimatförändringar kan påverka en verksamhet. I denna utbildning får du lära dig hur du steg för steg genomför en klimatscenarioanalys för att identifiera vilka risker ett företag står inför och vilka finansiella följder de kan få. Förutom att uppfylla kraven i ESRS bidrar klimatscenarioanalysen till att identifiera nya möjligheter för affärsmodell och strategi. Utbildningen arrangeras av Aktuell Hållbarhet och leds av 2050:s experter. \nDU FÅR LÄRA DIG \n\nHur du steg för steg genomför en klimatscenarioanalys\nVilka krav som finns enligt ESRS och hur scenarioanalysen stödjer efterlevnaden av dessa\nHur du väljer rätt klimatscenarier från IPCC att använda i din klimatscenarioanalys\nHur du identifierar och analyserar fysiska klimathot\, som exempelvis översvämningar och torka\, och omställningsrelaterade risker\, som exempelvis nya regler och teknisk utveckling\nHur AI kan användas för att effektivisera arbetet med att identifiera relevanta risker och möjligheter\nHur du kvantifierar risker och möjligheter samt bedömer deras finansiella påverkan på verksamheten\nHur du utvärderar en verksamhets motståndskraft mot de identifierade riskerna\nHur resultaten från klimatscenarioanalysen kan integreras i strategiarbete\, riskhantering och beslutsfattande\n\nDu som deltagare kommer att få en konkret steg-för-steg-guide för hur en klimatscenarioanalys kan genomföras. Guiden följer kraven i ESRS men kan även användas av de företag som inte omfattas av CSRD.  \nDatum: Onsdagen den 22 april 2026Tid: 09:00–17:00Plats: StockholmPris: 11 900 SEK exkl. moms \n					\n									Läs mer och anmäl dig här\n					\n\n	\n	Lägg till i kalender	\n		\n	\n \n\n\n	Google Kalender\n\n\n	iCalendar\n\n\n	Outlook 365\n\n\n	Outlook Live\n\n\n\n\n\n\n				Utbildning: Hållbara affärer – så räknar du på hållbarhetsarbetets lönsamhet	\n\n\n	\n		Utbildning: Klimatberäkningar enligt GHG-protokollet
URL:https://2050.se/event/utbildning-klimatscenarioanalys-i-praktiken-steg-for-steg/
LOCATION:Stockholm
CATEGORIES:Stockholm
ATTACH;FMTTYPE=image/jpeg:https://2050.se/wp-content/uploads/2025/01/UTB_Risker_Mojl_new.jpg
END:VEVENT
BEGIN:VEVENT
DTSTART;TZID=Europe/Stockholm:20260423T090000
DTEND;TZID=Europe/Stockholm:20260423T094500
DTSTAMP:20260419T204900
CREATED:20260325T084616Z
LAST-MODIFIED:20260325T085514Z
UID:10000159-1776934800-1776937500@2050.se
SUMMARY:Webbinarium: Framtidens hållbarhetsrapportering och granskning
DESCRIPTION:« Alla Evenemang\n \n\n	Webbinarium: Framtidens hållbarhetsrapportering och granskning\n			april 23\n	  kl\n09:00\n	  –\n09:45\n	 \nHållbarhetsrapporteringskraven håller på att förenklas till följd av Omnibusändringarna\, men förväntningarna på kvalitet och transparens kvarstår i stor utsträckning. Under detta webbinarium beskriver vi hur den nya spelplanen ser ut och hur förändringarna i omvärlden kommer påverka rapporteringslandskapet framåt. Vi kommer även ha en fördjupad dialog om granskning där Sara Lissdaniels från FAR delar med sig av trender och granskningens betydelse för frivillig rapportering. \nAgenda \n\nBeskrivning av nuläget och hur Omnibuspaketet har påverkat\nRapporteringens nya spelplan\nKrav och förväntningar på granskning av rapporter\nKonsekvenser när granskning inte sker – monetära\, regulatoriska och varumärkesmässiga risker\nAktuella trender\n\nDet här får du som deltagare \n\nEn tydlig bild av dagens och morgondagens krav och förväntningar kopplat till hållbarhetsrapportering \nKonkreta insikter om hur granskningen genomförs \nFörståelse för risker och möjligheter kopplat till rapporteringsprocessen \nMöjlighet att ställa frågor direkt till experterna\nTips att ha med sig framåt\n\nWebbinariet arrangeras av 2050 Consulting och DIB Kunskap.  \nVarmt välkommen! \nDatum: Torsdagen den 23 april 2026Tid: 09:00–09:45Plats: DigitaltPris: Kostnadsfritt \n					\n									Läs mer och anmäl dig här\n					\n\n	\n	Lägg till i kalender	\n		\n	\n \n\n\n	Google Kalender\n\n\n	iCalendar\n\n\n	Outlook 365\n\n\n	Outlook Live\n\n\n\n\n\n\n				Utbildning: Klimatscenarioanalys i praktiken – steg för steg	\n\n\n	\n		Utbildning: Klimatberäkningar enligt GHG-protokollet
URL:https://2050.se/event/webbinarium-framtidens-hallbarhetsrapportering-och-granskning/
LOCATION:Digitalt
CATEGORIES:Digitalt
ATTACH;FMTTYPE=image/jpeg:https://2050.se/wp-content/uploads/2025/02/Utb_CirkularEkonomi_v2.jpg
END:VEVENT
BEGIN:VEVENT
DTSTART;TZID=Europe/Stockholm:20260506T090000
DTEND;TZID=Europe/Stockholm:20260506T170000
DTSTAMP:20260419T204900
CREATED:20251120T104557Z
LAST-MODIFIED:20260122T140153Z
UID:10000122-1778058000-1778086800@2050.se
SUMMARY:Utbildning: Klimatberäkningar enligt GHG-protokollet
DESCRIPTION:« Alla Evenemang\n \n\n	Utbildning: Klimatberäkningar enligt GHG-protokollet\n			maj 6\n	  kl\n09:00\n	  –\n17:00\n	 \nUnder denna heldag får du lära dig hur du beräknar din verksamhets klimatpåverkan enligt standarden Greenhouse Gas Protocol. Vi går igenom hur du identifierar utsläppen för din verksamhet\, väljer vad beräkningarna ska omfatta samt hur du beräknar och redovisar resultatet i scope 1-3. Utbildningen arrangeras av Aktuell Hållbarhet och leds av 2050:s experter. \nAtt beräkna en verksamhets klimatpåverkan kan vara komplicerat beroende på om utsläppen kommer från den egna verksamheten\, leverantörsledet eller när produkter och tjänster används av kunden. \nUnder denna dag får du själv lära dig att trovärdigt beräkna och redovisa klimatpåverkan enligt den globala standarden Greenhouse Gas Protocol. Vi går igenom hur beräkningar går till och du får tillgång till verktyg för att själv kunna göra effektiva beräkningar. \nTeori varvas med övningar och praktiska exempel. \nUTBILDNINGEN GÅR IGENOM: \n\nGrunderna i standarden Greenhouse Gas Protocol\nHur du identifierar utsläpp för din verksamhet\nHur du väljer vad beräkningarna ska omfatta\nHur du samlar in dataunderlag\nHur du beräknar utsläppen\nHur du redovisar resultat och hur det kan samordnas med till exempel hållbarhetsredovisning enligt GRI\, CDP\, TCFD och Science Based Targets\nHur du sätter klimatmål\n\nDatum: Onsdagen den 6 maj 2026Tid: 09:00–17:00Plats: StockholmPris: 11 900 SEK exkl. moms \n					\n									Läs mer och anmäl dig här\n					\n\n	\n	Lägg till i kalender	\n		\n	\n \n\n\n	Google Kalender\n\n\n	iCalendar\n\n\n	Outlook 365\n\n\n	Outlook Live\n\n\n\n\n\n\n				Utbildning: Klimatscenarioanalys i praktiken – steg för steg
URL:https://2050.se/event/utbildning-klimatberakningar-enligt-ghg-protokollet-5/
LOCATION:Stockholm
CATEGORIES:Stockholm
ATTACH;FMTTYPE=image/jpeg:https://2050.se/wp-content/uploads/2025/01/Utb_ghg_protocol.jpg
END:VEVENT
BEGIN:VEVENT
DTSTART;TZID=Europe/Stockholm:20260527T090000
DTEND;TZID=Europe/Stockholm:20260527T170000
DTSTAMP:20260419T204900
CREATED:20260122T144131Z
LAST-MODIFIED:20260122T144432Z
UID:10000146-1779872400-1779901200@2050.se
SUMMARY:Utbildning: Beräkna klimatpåverkan i värdekedjan enligt GHG-protokollets scope 3
DESCRIPTION:« Alla Evenemang\n \n\n	Utbildning: Beräkna klimatpåverkan i värdekedjan enligt GHG-protokollets scope 3\n			maj 27\n	  kl\n09:00\n	  –\n17:00\n	 \nDet blir allt mer fokus på att företag ska ta ett helhetsgrepp kring klimatpåverkan och även inkludera leverantörsled\, kunder och användare. Att göra beräkningar utanför den egna verksamheten är dock mer komplicerat. Denna utbildning handlar om hur du beräknar era utsläpp av växthusgaser i verksamhetens värdekedja i enlighet med standarden Greenhouse Gas Protocols scope 3. Vi går igenom hur du identifierar utsläppen\, väljer vad beräkningarna ska omfatta och hur du beräknar och redovisar resultatet. Du får även tillgång till verktyg för att du själv ska kunna göra beräkningar. \nUtbildningen arrangeras av Aktuell Hållbarhet och leds av 2050:s experter. \nUTBILDNINGEN GÅR IGENOM: \n\nGrunderna i standarden Greenhouse Gas Protocol med tyngdpunkt på scope 3\nHur du identifierar utsläpp i hela värdekedjan och vad som är tillräcklig omfattning för att beskriva er verksamhets klimatpåverkan\nHur du samlar in dataunderlag och vilken data som är nödvändig\nHur du beräknar utsläppen\nRisker och möjligheter med förändrade regelverk\, teknikskiften och kundkrav\nMallar och verktyg som du själv kan använda för att göra beräkningar av klimatpåverkan i leverantörs- och användarled.\n\nUTBILDNINGEN RIKTAR SIG TILL:Dig som har generell kunskap om klimatberäkningar enligt Greenhouse Gas Protocol\, till exempel genom att tidigare gått kursen Klimatberäkningar enligt GHG-protokollet.  \nDatum: Onsdagen den 27 maj 2026Tid: 09:00–17:00Plats: StockholmPris: 11 900 SEK exkl. moms per deltagare \n					\n									Läs mer och anmäl dig här\n					\n\n	\n	Lägg till i kalender	\n		\n	\n \n\n\n	Google Kalender\n\n\n	iCalendar\n\n\n	Outlook 365\n\n\n	Outlook Live\n\n\n\n\n\n\n				Utbildning: Klimatberäkningar enligt GHG-protokollet
URL:https://2050.se/event/utbildning-berakna-klimatpaverkan-i-vardekedjan-enligt-ghg-protokollets-scope-3-3/
LOCATION:Stockholm
CATEGORIES:Stockholm
ATTACH;FMTTYPE=image/jpeg:https://2050.se/wp-content/uploads/2025/01/Utb_GHG_Scope3.jpg
END:VEVENT
BEGIN:VEVENT
DTSTART;TZID=Europe/Stockholm:20260916T083000
DTEND;TZID=Europe/Stockholm:20260916T160000
DTSTAMP:20260419T204900
CREATED:20260202T104753Z
LAST-MODIFIED:20260202T110553Z
UID:10000150-1789547400-1789574400@2050.se
SUMMARY:Utbildning: Greenhouse Gas Protocol
DESCRIPTION:« Alla Evenemang\n \n\n	Utbildning: Greenhouse Gas Protocol\n			september 16\n	  kl\n08:30\n	  –\n16:00\n	 \nVälkommen till en utbildning i en av världens mest använda standarder för klimatberäkningar – Greenhouse Gas Protocol. Under denna heldagsutbildning får deltagarna lära sig att beräkna klimatpåverkan som uppstår i egen verksamheten och genom hela värdekedjan. Utbildningen arrangeras av Sydsvenska Industri- och Handelskammaren och leds av 2050:s experter. \nVi går igenom hur du identifierar utsläppen för din verksamhet\, väljer vad beräkningarna ska omfatta samt hur du beräknar och redovisar resultatet i scope 1-3.  Du får dessutom insikter i beräkningsmetoder genom konkreta exempel och praktiska övningar – allt för att du ska kunna applicera kunskaperna direkt i din verksamhet. \nMål med utbildningen:Att ge deltagaren kunskaper och färdigheter i grunderna för beräkning av klimatpåverkan. \n\nSkapa förståelse för hur du kan beräkna er verksamhets klimatpåverkan utifrån riktlinjerna i Greenhouse Gas Protocol för scope 1-3\nSteg för steg: insamling av data för klimatberäkningarna\nHur du sammanställer och kommunicerar resultatet\n\nUtbildningens innehåll: \n\nGreenhouse Gas Protocols principer och begrepp\nIdentifiering av utsläpp och avgränsningar\nSå beräknar du scope 1 och 2: direkta utsläpp och indirekta utsläpp från energi\nSå beräknar du scope 3: beräkningar genom hela värdekedjan\nAtt redovisa verksamhetens klimatpåverkan\n\nTeori varvas med interaktiva moment och övningar löpande under dagen. \nDatum: Onsdagen den 16 september 2026Tid: 08:30–16:00Plats: Ångbåtsbron 1\, MalmöPris: 3 900 kr/pers för personer som är medlemmar i Hållbarhetsnätverket.4 900 kr/pers för medlemsföretag i Handelskammaren.6 900 kr/pers för icke-medlemmar.Utbildningsledare: Linnea Hörstedt\, seniorkonsult på 2050 och Isabell Plars\, konsult på 2050 \n					\n									Läs mer och anmäl dig här\n					\n\n	\n	Lägg till i kalender	\n		\n	\n \n\n\n	Google Kalender\n\n\n	iCalendar\n\n\n	Outlook 365\n\n\n	Outlook Live\n\n\n\n\n\n\n				Utbildning: Beräkna klimatpåverkan i värdekedjan enligt GHG-protokollets scope 3
URL:https://2050.se/event/utbildning-greenhouse-gas-protocol-2/
LOCATION:Malmö
CATEGORIES:Malmö
ATTACH;FMTTYPE=image/jpeg:https://2050.se/wp-content/uploads/2024/11/Greenhouse-Gas-Protocol-event.jpg
END:VEVENT
END:VCALENDAR