BEGIN:VCALENDAR
VERSION:2.0
PRODID:-//2050 - ECPv6.15.20//NONSGML v1.0//EN
CALSCALE:GREGORIAN
METHOD:PUBLISH
X-WR-CALNAME:2050
X-ORIGINAL-URL:https://2050.se
X-WR-CALDESC:Events for 2050
REFRESH-INTERVAL;VALUE=DURATION:PT1H
X-Robots-Tag:noindex
X-PUBLISHED-TTL:PT1H
BEGIN:VTIMEZONE
TZID:Europe/Stockholm
BEGIN:DAYLIGHT
TZOFFSETFROM:+0100
TZOFFSETTO:+0200
TZNAME:CEST
DTSTART:20240331T010000
END:DAYLIGHT
BEGIN:STANDARD
TZOFFSETFROM:+0200
TZOFFSETTO:+0100
TZNAME:CET
DTSTART:20241027T010000
END:STANDARD
BEGIN:DAYLIGHT
TZOFFSETFROM:+0100
TZOFFSETTO:+0200
TZNAME:CEST
DTSTART:20250330T010000
END:DAYLIGHT
BEGIN:STANDARD
TZOFFSETFROM:+0200
TZOFFSETTO:+0100
TZNAME:CET
DTSTART:20251026T010000
END:STANDARD
BEGIN:DAYLIGHT
TZOFFSETFROM:+0100
TZOFFSETTO:+0200
TZNAME:CEST
DTSTART:20260329T010000
END:DAYLIGHT
BEGIN:STANDARD
TZOFFSETFROM:+0200
TZOFFSETTO:+0100
TZNAME:CET
DTSTART:20261025T010000
END:STANDARD
END:VTIMEZONE
BEGIN:VEVENT
DTSTART;TZID=Europe/Stockholm:20250402T083000
DTEND;TZID=Europe/Stockholm:20250402T120000
DTSTAMP:20260422T205345
CREATED:20250207T140440Z
LAST-MODIFIED:20250827T131915Z
UID:20316-1743582600-1743595200@2050.se
SUMMARY:Utbildning: Hållbarhetskrav för er som leverantörer
DESCRIPTION:« All Events\n 				\n				\n				\n				\n					This event has passed. \n				\n				\n				\n				\n					\n	Utbildning: Hållbarhetskrav för er som leverantörer				\n				\n				\n				\n					\n		\n			April 2\n\n	\n\n	  kl  \n\n\n08:30\n\n		\n\n\n\n	\n	  -  \n\n12:00\n\n\n\n	\n				\n				\n				\n				\n					\n	\n				\n				\n				\n				\n									Kursen hjälper företag att förstå de nya hållbarhetskraven på leverantörer som börjar gälla 1 juli 2024 enligt CSRD. Den är anpassad för små och medelstora företag som vill förbereda sig för att vara relevanta i upphandlingar och behålla sina kunder. Arrangeras i samarbete med Västsvenska Handelskammaren.  Stora företags CSRD-arbete kommer innebära nya krav för små- och medelstora företag (SMEer) som inte själva omfattas av rapporteringsdirektivet CSRD. Företagen blir en del i värdekedjan för sina större kunder och väntas behöva rapportera hållbarhetsrelaterad information till dem. Denna utbildning är anpassad för små- och medelstora företag som vill förbereda sig för att vara relevanta i upphandlingar och behålla sina kunder. KURSINNEHÅLLBakgrund kring varför och vilka företag och aktörer som behöver ställa högre hållbarhetskrav på sina värdekedjor\, hur påverkar ex CSRD krav på stora företag deras leverantörerGenomgång av vilken data och information som kommer att efterfrågas av befintliga och nya kunder\, så som utsläppsdata\, arbetsförhållanden och produktursprung (EPDer).Strategier för att fastställa ambitionsnivå\, hitta rätt positionering och linjera kundkrav med nuvarande affärsstrategiKonkreta tips för hur du som SME kan prioritera och resurseffektivt ta fram och leverera den data och information som efterfrågas Datum: Onsdag 2 april 2025Tid: 08:30–12:00Plats: Parkgatan 49 i Göteborg (Västsvenska Handelskammaren)Pris: 4 500 SEK exkl. moms (medlemspris: 4 100 SEK\, för medlemmar i Västsvenska Handelskammaren) 								\n				\n				\n				\n									\n					\n						\n									Läs mer och anmäl dig här\n					\n					\n				\n								\n				\n				\n				\n					\n	\n		\n\n	\n	Add to calendar	\n		\n	\n\n		\n			\n									\n	Google Calendar\n\n									\n	iCalendar\n\n									\n	Outlook 365\n\n									\n	Outlook Live\n\n							\n		\n\n		\n	\n\n				\n				\n		\n					\n				\n				\n							\n			\n						\n		\n						\n				\n					\n				\n		\n					\n				\n				\n									Utbildningsledare: 								\n				\n					\n				\n					\n		\n					\n		\n		\n		\n					\n		\n				\n				\n					\n					\n							\n		\n		\n			Lova Rosenqvist\n							Konsult\n			\n							\n					Hållbarhetsrapportering (CSRD\, ESRS\, årsredovisningslagen\, taxonomin\, m.fl.)\, Biologisk mångfald\, TNFD\, klimatberäkningar.\n\n+46 76 830 91 21 \n				\n			\n			\n							\n									\n			\n					\n						\n				\n				\n		\n				\n				\n					\n					\n							\n		\n		\n			Victor Norberg\n							Seniorkonsult\n			\n							\n					Hållbar och kunddriven affärs- och strategiutveckling\, SDG\, cirkulära affärsmodeller\, biokol och utbildning. \n\n+46 70 587 91 88 \n				\n			\n			\n							\n									\n			\n					\n						\n				\n				\n					\n				\n				\n				\n						\n					\n			\n						\n						\n					\n			\n						\n				\n					\n	\n		\n\n				Utbildning: Hållbarhetsrisker enligt CSRD – identifiera\, hantera och rapportera finansiella risker och möjligheter	\n\n\n		\n	\n		Webbinarium: Rapportsläpp - Storföretagens historiska klimatutsläpp
URL:https://2050.se/en/event/hallbarhetskrav-for-er-som-leverantorer-2/
LOCATION:Gothenburg
CATEGORIES:Gothenburg
ATTACH;FMTTYPE=image/jpeg:https://2050.se/wp-content/uploads/2025/02/Utb_VHK_Hallbarhetskrav.jpg
END:VEVENT
END:VCALENDAR