BEGIN:VCALENDAR
VERSION:2.0
PRODID:-//2050 - ECPv6.15.20//NONSGML v1.0//EN
CALSCALE:GREGORIAN
METHOD:PUBLISH
X-WR-CALNAME:2050
X-ORIGINAL-URL:https://2050.se
X-WR-CALDESC:Events for 2050
REFRESH-INTERVAL;VALUE=DURATION:PT1H
X-Robots-Tag:noindex
X-PUBLISHED-TTL:PT1H
BEGIN:VTIMEZONE
TZID:UTC
BEGIN:STANDARD
TZOFFSETFROM:+0000
TZOFFSETTO:+0000
TZNAME:UTC
DTSTART:20240101T000000
END:STANDARD
END:VTIMEZONE
BEGIN:VEVENT
DTSTART;TZID=UTC:20250225T080000
DTEND;TZID=UTC:20250225T170000
DTSTAMP:20260421T093348
CREATED:20241211T224133Z
LAST-MODIFIED:20250129T094516Z
UID:19214-1740470400-1740502800@2050.se
SUMMARY:Utbildning: Greenhouse Gas Protocol
DESCRIPTION:Utbildning: Greenhouse Gas Protocol								\n				\n					\n				\n				\n						\n					\n			\n						\n				\n					\n	« All Events\n 				\n				\n				\n				\n					This event has passed. \n				\n				\n				\n				\n					\n	Utbildning: Greenhouse Gas Protocol				\n				\n				\n				\n					\n		\n			February 25\n\n	\n\n	  kl  \n\n\n08:00\n\n		\n\n\n\n	\n	  -  \n\n17:00\n\n\n\n	\n				\n				\n				\n				\n					\n	\n				\n				\n				\n				\n									Tillsammans med Handelskammaren bjuder vi på 2050 Consulting in till utbildning i en av världens mest använda standarder för klimatberäkningar – Greenhouse Gas Protocol. Under denna heldagsutbildning får deltagarna lära sig att beräkna klimatpåverkan som uppstår i egen verksamheten och genom hela värdekedjan. Vi går igenom hur du identifierar utsläppen för din verksamhet\, väljer vad beräkningarna ska omfatta samt hur du beräknar och redovisar resultatet i scope 1-3. Du får dessutom insikter i beräkningsmetoder genom konkreta exempel och praktiska övningar – allt för att du ska kunna applicera kunskaperna direkt i din verksamhet. Utbildningens innehåll: Greenhouse Gas Protocols principer och begreppIdentifiering av utsläpp och avgränsningarSå beräknar du scope 1 och 2: direkta utsläpp och indirekta utsläpp från energiSå beräknar du scope 3: beräkningar genom hela värdekedjanAtt redovisa verksamhetens klimatpåverkanTeori varvas med interaktiva moment och övningar löpande under dagen. Datum: 25 februari 2025Tid: 08:30–16:00Plats: Ångbåtsbron 1 i Malmö (Handelskammaren) 								\n				\n				\n				\n									\n					\n						\n									Läs mer och anmäl dig här\n					\n					\n				\n								\n				\n				\n				\n					\n	\n		\n\n	\n	Add to calendar	\n		\n	\n\n		\n			\n									\n	Google Calendar\n\n									\n	iCalendar\n\n									\n	Outlook 365\n\n									\n	Outlook Live\n\n							\n		\n\n		\n	\n\n				\n				\n		\n					\n				\n				\n							\n			\n						\n		\n						\n				\n					\n				\n		\n					\n				\n				\n									Utbildningsledare: 								\n				\n					\n				\n		\n		\n					\n		\n				\n				\n					\n					\n							\n		\n		\n			Linnea Hörstedt\n							Seniorkonsult\n			\n							\n					Hållbarhetsstrategi\, miljöledning\, miljörätt\, nätverk\, utbildare\, moderator\, projektledning\, globala hållbarhetsmålen (SDG).\n\n+46 70 492 91 78\n\n \n				\n			\n			\n							\n									\n			\n					\n						\n				\n				\n		\n				\n				\n					\n					\n							\n		\n		\n			Hanna Bengtsson\n							Konsult\n			\n							\n					Affärsutveckling med fokus på resurseffektivisering och cirkulär ekonomi\, klimatberäkning och analys\, hållbarhetsrapportering och kommunikation\, väsentlighetsanalys\, mål och strategi.\n\n+46 70 419 70 79 \n				\n			\n			\n							\n									\n			\n					\n						\n				\n				\n					\n				\n				\n				\n						\n					\n			\n						\n				\n					\n	\n		\n\n				Webbinarium – Hur kan AI snabba på klimatomställningen?	\n\n\n		\n	\n		Kurs om hållbarhetsredovisning enligt CSRD
URL:https://2050.se/en/event/utbildning-greenhouse-gas-protocol-en/
LOCATION:Malmö
CATEGORIES:Malmö
ATTACH;FMTTYPE=image/jpeg:https://2050.se/wp-content/uploads/2024/11/Greenhouse-Gas-Protocol-event.jpg
END:VEVENT
END:VCALENDAR