BEGIN:VCALENDAR
VERSION:2.0
PRODID:-//2050 - ECPv6.15.20//NONSGML v1.0//EN
CALSCALE:GREGORIAN
METHOD:PUBLISH
X-WR-CALNAME:2050
X-ORIGINAL-URL:https://2050.se
X-WR-CALDESC:Events for 2050
REFRESH-INTERVAL;VALUE=DURATION:PT1H
X-Robots-Tag:noindex
X-PUBLISHED-TTL:PT1H
BEGIN:VTIMEZONE
TZID:Europe/Stockholm
BEGIN:DAYLIGHT
TZOFFSETFROM:+0100
TZOFFSETTO:+0200
TZNAME:CEST
DTSTART:20250330T010000
END:DAYLIGHT
BEGIN:STANDARD
TZOFFSETFROM:+0200
TZOFFSETTO:+0100
TZNAME:CET
DTSTART:20251026T010000
END:STANDARD
BEGIN:DAYLIGHT
TZOFFSETFROM:+0100
TZOFFSETTO:+0200
TZNAME:CEST
DTSTART:20260329T010000
END:DAYLIGHT
BEGIN:STANDARD
TZOFFSETFROM:+0200
TZOFFSETTO:+0100
TZNAME:CET
DTSTART:20261025T010000
END:STANDARD
BEGIN:DAYLIGHT
TZOFFSETFROM:+0100
TZOFFSETTO:+0200
TZNAME:CEST
DTSTART:20270328T010000
END:DAYLIGHT
BEGIN:STANDARD
TZOFFSETFROM:+0200
TZOFFSETTO:+0100
TZNAME:CET
DTSTART:20271031T010000
END:STANDARD
END:VTIMEZONE
BEGIN:VEVENT
DTSTART;TZID=Europe/Stockholm:20260605T083000
DTEND;TZID=Europe/Stockholm:20260605T100000
DTSTAMP:20260423T152100
CREATED:20260420T140255Z
LAST-MODIFIED:20260422T084353Z
UID:29605-1780648200-1780653600@2050.se
SUMMARY:Valdebatt Malmö 2026: Klimatomställning\, energipolitik och Sveriges väg framåt
DESCRIPTION:« All Events\n 				\n				\n				\n				\n					\n	Valdebatt Malmö 2026: Klimatomställning\, energipolitik och Sveriges väg framåt				\n				\n				\n				\n					\n		\n			June 5\n\n	\n\n	  kl  \n\n\n08:30\n\n		\n\n\n\n	\n	  -  \n\n10:00\n\n\n\n	\n				\n				\n				\n				\n					\n	\n				\n				\n				\n				\n									Inför valet 2026 står klimatomställningen högt på den politiska agendan. Omställningen behöver ske snabbt för att Sverige ska nå sina klimatmål och leva upp till Parisavtalet.  I Skåne är energifrågorna särskilt centrala: effektbrist\, energieffektivisering och industrins omställning är avgörande för regionens framtida utveckling. Hur ser lösningarna ut – och vilka politiska beslut krävs för att de ska bli verklighet? 2050 Consulting\, Sustainable Business Hub och Altitude bjuder in till ett frukostseminarium den 5 juni där näringsliv och politiker möts i framåtblickande diskussion inför valet. Preliminär agenda: 8:15 – Frukostmacka och kaffe serveras i salen 8:30 – Introduktion med 2050 & Sustainable Business Hub 8:40 – Politikerpanel om den gröna omställningen 9:00 – Politikerpanel med energifokus med frågor ställda direkt från näringslivet 9:50 – Frågor från publiken 10:00 – Mingel & kaffe för den som vill 10:30 – Avslut Deltagande politiker: Louise Eklund\, energipolitisk talesperson för LiberalernaCecilia Engström\, riksdagsledamot för KristdemokraternaFler kommer! Datum: Fredagen den 5 juni 2026Tid: 08:30–10:00Plats: Salen Satellit på Studio\, Nordenskiöldsgatan 24 (10 minuter från Malmö C)Pris: Kostnadsfritt\, begränsat antal platser 								\n				\n				\n				\n									\n					\n						\n									Läs mer och anmäl dig här\n					\n					\n				\n								\n				\n				\n				\n					\n	\n		\n\n	\n	Add to calendar	\n		\n	\n\n		\n			\n									\n	Google Calendar\n\n									\n	iCalendar\n\n									\n	Outlook 365\n\n									\n	Outlook Live\n\n							\n		\n\n		\n	\n\n				\n				\n		\n					\n				\n				\n							\n			\n						\n		\n						\n				\n					\n				\n				\n						\n					\n			\n						\n				\n					\n	\n		\n\n				Utbildning: Beräkna klimatpåverkan i värdekedjan enligt GHG-protokollets scope 3	\n\n\n		\n	\n		Utbildning: Greenhouse Gas Protocol
URL:https://2050.se/en/event/valdebatt-malmo-2026-klimatomstallning-energipolitik-och-sveriges-vag-framat-2/
LOCATION:Malmö
CATEGORIES:Malmö
ATTACH;FMTTYPE=image/jpeg:https://2050.se/wp-content/uploads/2026/04/iStock-2152882422_webb.avif
END:VEVENT
END:VCALENDAR