BEGIN:VCALENDAR
VERSION:2.0
PRODID:-//2050 - ECPv6.15.20//NONSGML v1.0//EN
CALSCALE:GREGORIAN
METHOD:PUBLISH
X-WR-CALNAME:2050
X-ORIGINAL-URL:https://2050.se
X-WR-CALDESC:Events for 2050
REFRESH-INTERVAL;VALUE=DURATION:PT1H
X-Robots-Tag:noindex
X-PUBLISHED-TTL:PT1H
BEGIN:VTIMEZONE
TZID:Europe/Stockholm
BEGIN:DAYLIGHT
TZOFFSETFROM:+0100
TZOFFSETTO:+0200
TZNAME:CEST
DTSTART:20240331T010000
END:DAYLIGHT
BEGIN:STANDARD
TZOFFSETFROM:+0200
TZOFFSETTO:+0100
TZNAME:CET
DTSTART:20241027T010000
END:STANDARD
BEGIN:DAYLIGHT
TZOFFSETFROM:+0100
TZOFFSETTO:+0200
TZNAME:CEST
DTSTART:20250330T010000
END:DAYLIGHT
BEGIN:STANDARD
TZOFFSETFROM:+0200
TZOFFSETTO:+0100
TZNAME:CET
DTSTART:20251026T010000
END:STANDARD
BEGIN:DAYLIGHT
TZOFFSETFROM:+0100
TZOFFSETTO:+0200
TZNAME:CEST
DTSTART:20260329T010000
END:DAYLIGHT
BEGIN:STANDARD
TZOFFSETFROM:+0200
TZOFFSETTO:+0100
TZNAME:CET
DTSTART:20261025T010000
END:STANDARD
END:VTIMEZONE
BEGIN:VEVENT
DTSTART;TZID=Europe/Stockholm:20250522T083000
DTEND;TZID=Europe/Stockholm:20250522T091500
DTSTAMP:20260420T130914
CREATED:20250506T095155Z
LAST-MODIFIED:20250827T131617Z
UID:21457-1747902600-1747905300@2050.se
SUMMARY:Webbinarium: 5 anledningar till att fortsätta hållbarhetsarbetet – trots Omnibus
DESCRIPTION:« All Events\n 				\n				\n				\n				\n					This event has passed. \n				\n				\n				\n				\n					\n	Webbinarium: 5 anledningar till att fortsätta hållbarhetsarbetet – trots Omnibus				\n				\n				\n				\n					\n		\n			May 22\n\n	\n\n	  kl  \n\n\n08:30\n\n		\n\n\n\n	\n	  -  \n\n09:15\n\n\n\n	\n				\n				\n				\n				\n					\n	\n				\n				\n				\n				\n									Omnibusförslagen har fått pendeln att svänga i hållbarhetssverige och den utstakade planen är nu uppriven. Vad som följer i form av regelverk är fortfarande oklart och en ny vägledning kan ta tid. Men omvärlden står inte still\, utsläppen tar ingen paus – därför blir förmågan att anpassa sig till en situation med okända förutsättningar avgörande för hållbarhetsarbetet i många organisationer under de kommande månaderna. 2050 agerar just nu rådgivare till flera stora företag i hur de ska agera när CSRD-direktivet skjuts upp. De allra flesta bolag har gjort sina dubbla väsentlighetsbedömningar och ökat förståelsen för de risker och möjligheter de står inför. När förändringar i omvärlden\, som Omnibusförslaget\, inträffar finns det en risk att organisationer och avdelningar blir paralyserade och tappar styrfart i väntan på nya direktiv.  På detta kostnadsfria webbinarium kommer vi därför dela 5 anledningar till att det är viktigt för företag att fortsätta arbeta med hållbarhetsrelaterad inverkan\, risker och möjligheter trots osäkra tider. Vi resonerar också kring vad konsekvenserna kan bli om hållbarhetsarbetet och hållbarhetsrapporteringen halkar efter eller uteblir.  Varmt välkommen! Datum: Torsdag den 22 maj 2025Tid: 08:30–09:15Plats: DigitaltPris: Kostnadsfritt 								\n				\n				\n				\n									\n					\n						\n									Läs mer och anmäl dig här\n					\n					\n				\n								\n				\n				\n				\n					\n	\n		\n\n	\n	Add to calendar	\n		\n	\n\n		\n			\n									\n	Google Calendar\n\n									\n	iCalendar\n\n									\n	Outlook 365\n\n									\n	Outlook Live\n\n							\n		\n\n		\n	\n\n				\n				\n		\n					\n				\n				\n							\n			\n						\n		\n						\n				\n					\n				\n		\n					\n				\n				\n									Läs mer och anmäl dig även till vårt kommande webbinarium den 11 juni: Hur skapar vi kommunikativa och värdeskapande hållbarhetsrapporter? 								\n				\n				\n				\n									Talare: 								\n				\n					\n				\n		\n		\n					\n		\n				\n				\n					\n					\n							\n		\n		\n			Mattias Andir\n							Seniorkonsult\n			\n							\n					Hållbar affärsutveckling\, management och strategi\, projekt- och förändringsledning samt  utbildning.\n\n+46 76 141 57 51 \n				\n			\n			\n							\n									\n			\n					\n						\n				\n				\n		\n				\n				\n					\n					\n							\n		\n		\n			Rebecka Jakobsson\n							Seniorkonsult\n			\n							\n					Hållbarhetsrapportering (CSRD\, årsredovisningslagen\, GRI\, TCFD\, taxonomin m.fl.) och strategisk hållbarhetsrådgivning.\n\n+46 70 217 68 91 \n				\n			\n			\n							\n									\n			\n					\n						\n				\n				\n					\n				\n				\n				\n						\n					\n			\n						\n				\n					\n	\n		\n\n				Webbinarium: Så finansierar Ni företagets klimatarbete	\n\n\n		\n	\n		Webbinarium: CDP – nödvändigt ont eller strategisk möjlighet?
URL:https://2050.se/en/event/webbinarium-5-anledningar-till-att-fortsatta-hallbarhetsarbetet-trots-omnibus-2/
LOCATION:Digital
CATEGORIES:Digital
ATTACH;FMTTYPE=image/jpeg:https://2050.se/wp-content/uploads/2025/03/Webinar_Omnibus.jpg
END:VEVENT
END:VCALENDAR