BEGIN:VCALENDAR
VERSION:2.0
PRODID:-//2050 - ECPv6.15.20//NONSGML v1.0//EN
CALSCALE:GREGORIAN
METHOD:PUBLISH
X-WR-CALNAME:2050
X-ORIGINAL-URL:https://2050.se
X-WR-CALDESC:Händelser för 2050
REFRESH-INTERVAL;VALUE=DURATION:PT1H
X-Robots-Tag:noindex
X-PUBLISHED-TTL:PT1H
BEGIN:VTIMEZONE
TZID:Europe/Stockholm
BEGIN:DAYLIGHT
TZOFFSETFROM:+0100
TZOFFSETTO:+0200
TZNAME:CEST
DTSTART:20250330T010000
END:DAYLIGHT
BEGIN:STANDARD
TZOFFSETFROM:+0200
TZOFFSETTO:+0100
TZNAME:CET
DTSTART:20251026T010000
END:STANDARD
BEGIN:DAYLIGHT
TZOFFSETFROM:+0100
TZOFFSETTO:+0200
TZNAME:CEST
DTSTART:20260329T010000
END:DAYLIGHT
BEGIN:STANDARD
TZOFFSETFROM:+0200
TZOFFSETTO:+0100
TZNAME:CET
DTSTART:20261025T010000
END:STANDARD
BEGIN:DAYLIGHT
TZOFFSETFROM:+0100
TZOFFSETTO:+0200
TZNAME:CEST
DTSTART:20270328T010000
END:DAYLIGHT
BEGIN:STANDARD
TZOFFSETFROM:+0200
TZOFFSETTO:+0100
TZNAME:CET
DTSTART:20271031T010000
END:STANDARD
END:VTIMEZONE
BEGIN:VEVENT
DTSTART;TZID=Europe/Stockholm:20260601T130000
DTEND;TZID=Europe/Stockholm:20260601T153000
DTSTAMP:20260423T141208
CREATED:20260421T113001Z
LAST-MODIFIED:20260423T061351Z
UID:29673-1780318800-1780327800@2050.se
SUMMARY:Politisk dialog inför valet 2026 – Entreprenörskap\, innovation och hållbar omställning
DESCRIPTION:« Alla Evenemang\n 				\n				\n				\n				\n					\n	Politisk dialog inför valet 2026 – Entreprenörskap\, innovation och hållbar omställning				\n				\n				\n				\n					\n		\n			juni 1\n\n	\n\n	  kl  \n\n\n13:00\n\n		\n\n\n\n	\n	  -  \n\n15:30\n\n\n\n	\n				\n				\n				\n				\n					\n	\n				\n				\n				\n				\n									Vad vill företagen ha av politiken? Och vad planerar politiken för att företagen ska kunna ställa om och växa? Den 1 juni möts riksdagspolitiker\, forskare och näringsliv i Göteborg för ett viktigt och konstruktivt samtal inför valet 2026. Yesbox\, tillsammans med CSR Västsverige\, Drivhuset\, Coompanion\, Förebilderna\, Support Group Network och 2050 Consulting bjuder in kommun- och riksdagspolitiker till ett lösningsorienterat samtal om framtidens företagsfrämjande i Västsverige.Vi sätter fokus på: Entreprenörskap i en tid av klimatutmaningarMiljö- och klimatansvar som konkurrensfördelSocial hållbarhet och inkluderande tillväxtInnovation som drivkraft för ett hållbart näringslivVi kommer ha två paneler under eventetPanel 1 fokuserar på lokalpolitiken i Göteborg och Västsverige\, med särskild tonvikt på entreprenörskapets villkor\, lokala ekosystem\, och social hållbarhet.Panel 2 fokuserar på rikspolitiken\, med fokus på nationella spelregler\, långsiktighet och politiska verktyg kopplade till företagens faktiska behov. Både för att stärka entreprenörskap och företagande samt möjliggöra omställningen. (delar av panelfrågorna i denna panel utgår från vår företagsenkät med verkliga erfarenheter\, inte abstrakta scenarier.)Syftet är att skapa en konstruktiv dialog mellan politik\, företag och företagsfrämjande aktörer samt formulera konkreta inspel inför valet 2026. Inför samtalet – gör din röst hördBidra till ett mer faktabaserat samtal genom att delta i vår korta\, anonyma enkät om de frågor som står på spel i valet 2026. Till enkäten >> Datum: Måndagen den 1 juni 2026Tid: 13:00–15:30Pris: KostnadsfrittMålgrupp: För företag\, organisationer och individer som vill förstå hur politiken kan stärka företagens konkurrenskraft i klimatomställningen\, lyssna in partiernas lösningar och bidra med perspektiv.Plats: Väverigatan 4\, Göteborg (YESBOX – Home of Entrepreneurs). Välj mellan att delta på plats eller digitalt. Om du deltar digitalt ansluter du till mötet via länken som skickas ut samma morgon.Om du deltar fysiskt träffas vi på Yesbox – Home of entrepreneurs\, i Gamlestadens fabriker på Väverigatan 4 i Göteborg.Du tar dig enklast hit med spårvagnen till Gamlestads torg eller bussen till Kristinedal. Kommer du med tåg heter den närmsta stationen Gamlestaden.Den här träffen är öppen för alla. Varmt välkommen! 								\n				\n				\n				\n									\n					\n						\n									Läs mer och anmäl dig här\n					\n					\n				\n								\n				\n				\n				\n					\n	\n		\n\n	\n	Lägg till i kalender	\n		\n	\n\n		\n			\n									\n	Google Kalender\n\n									\n	iCalendar\n\n									\n	Outlook 365\n\n									\n	Outlook Live\n\n							\n		\n\n		\n	\n\n				\n				\n		\n					\n				\n				\n							\n			\n						\n		\n						\n				\n					\n				\n		\n					\n				\n				\n									Moderator: 								\n				\n					\n				\n		\n		\n					\n		\n				\n				\n					\n					\n							\n		\n		\n			Mikael Karlsson\n							Forskare vid Uppsala universitet och vetenskaplig rådgivare/partner på 2050\n			\n			\n			\n							\n									\n			\n					\n						\n				\n				\n					\n				\n				\n				\n						\n					\n			\n						\n				\n					\n	\n		\n\n				Utbildning: Beräkna klimatpåverkan i värdekedjan enligt GHG-protokollets scope 3	\n\n\n		\n	\n		Valdebatt Malmö 2026: Klimatomställning\, energipolitik och Sveriges väg framåt
URL:https://2050.se/event/politisk-dialog-infor-valet-2026-entreprenorskap-innovation-och-hallbar-omstallning/
LOCATION:Göteborg
CATEGORIES:Göteborg
ATTACH;FMTTYPE=image/jpeg:https://2050.se/wp-content/uploads/2026/04/iStock-476889000_w.avif
END:VEVENT
END:VCALENDAR