BEGIN:VCALENDAR
VERSION:2.0
PRODID:-//2050 - ECPv6.15.20//NONSGML v1.0//EN
CALSCALE:GREGORIAN
METHOD:PUBLISH
X-WR-CALNAME:2050
X-ORIGINAL-URL:https://2050.se
X-WR-CALDESC:Händelser för 2050
REFRESH-INTERVAL;VALUE=DURATION:PT1H
X-Robots-Tag:noindex
X-PUBLISHED-TTL:PT1H
BEGIN:VTIMEZONE
TZID:Europe/Stockholm
BEGIN:DAYLIGHT
TZOFFSETFROM:+0100
TZOFFSETTO:+0200
TZNAME:CEST
DTSTART:20240331T010000
END:DAYLIGHT
BEGIN:STANDARD
TZOFFSETFROM:+0200
TZOFFSETTO:+0100
TZNAME:CET
DTSTART:20241027T010000
END:STANDARD
BEGIN:DAYLIGHT
TZOFFSETFROM:+0100
TZOFFSETTO:+0200
TZNAME:CEST
DTSTART:20250330T010000
END:DAYLIGHT
BEGIN:STANDARD
TZOFFSETFROM:+0200
TZOFFSETTO:+0100
TZNAME:CET
DTSTART:20251026T010000
END:STANDARD
BEGIN:DAYLIGHT
TZOFFSETFROM:+0100
TZOFFSETTO:+0200
TZNAME:CEST
DTSTART:20260329T010000
END:DAYLIGHT
BEGIN:STANDARD
TZOFFSETFROM:+0200
TZOFFSETTO:+0100
TZNAME:CET
DTSTART:20261025T010000
END:STANDARD
END:VTIMEZONE
BEGIN:VEVENT
DTSTART;TZID=Europe/Stockholm:20251110T080000
DTEND;TZID=Europe/Stockholm:20251110T100000
DTSTAMP:20260421T111701
CREATED:20251017T072347Z
LAST-MODIFIED:20251017T083540Z
UID:25495-1762761600-1762768800@2050.se
SUMMARY:Seminarium: Hållbarhet som konkurrensfördel
DESCRIPTION:« Alla Evenemang\n 				\n				\n				\n				\n					Detta evenemang har redan ägt rum. \n				\n				\n				\n				\n					\n	Seminarium: Hållbarhet som konkurrensfördel				\n				\n				\n				\n					\n		\n			november 10\n\n	\n\n	  kl  \n\n\n08:00\n\n		\n\n\n\n	\n	  -  \n\n10:00\n\n\n\n	\n				\n				\n				\n				\n					\n	\n				\n				\n				\n				\n									Nu görs EU-regelverket om för att minska rapporteringskraven och öka konkurrenskraften. Är den gröna omställningen en motor för konkurrenskraft eller en bromskloss?  Välkommen till ett seminarium där vi träffar den högsta ansvariga i EU-parlamentet för revideringen\, Jörgen Warborn (M) EU-parlamentariker från Varberg. Vi diskuterar hur grön omställning kan vara en konkurrensfördel\, inte ett hinder och hur den nuvarande lagstiftningen kan utvecklas för att stärka\, snarare än hämma\, företagens affärer. På seminariet presenterar konsultbolaget 2050 resultaten från en rapport där VD:ar i olika branscher har intervjuats om hur CSRD och Omnibus-paketet påverkar deras arbete. Detta är ett samarrangemang mellan Västsvenska Handelskammaren och 2050 Consulting och öppet för alla företag i Västsverige. Datum: Måndagen den 10 november 2025Tid: 08:00–10:00Plats: Parkgatan 49 i Göteborg eller DigitaltPris: Kostnadsfritt 								\n				\n				\n				\n									\n					\n						\n									Läs mer och anmäl dig här\n					\n					\n				\n								\n				\n				\n				\n					\n	\n		\n\n	\n	Lägg till i kalender	\n		\n	\n\n		\n			\n									\n	Google Kalender\n\n									\n	iCalendar\n\n									\n	Outlook 365\n\n									\n	Outlook Live\n\n							\n		\n\n		\n	\n\n				\n				\n		\n					\n				\n				\n							\n			\n						\n		\n						\n				\n					\n				\n				\n						\n					\n			\n						\n				\n					\n	\n		\n\n				Webbinarium: Hitta rätt nivå och få ut mer av hållbarhetsrapporten	\n\n\n		\n	\n		Utbildning: Hantera hållbarhetsdata – identifiera\, samla in och rapportera
URL:https://2050.se/event/seminarium-hallbarhet-som-konkurrensfordel/
LOCATION:Göteborg
CATEGORIES:Digitalt,Göteborg
ATTACH;FMTTYPE=image/jpeg:https://2050.se/wp-content/uploads/2025/02/Utb_VHK_Hallbarhetskrav.jpg
END:VEVENT
END:VCALENDAR