BEGIN:VCALENDAR
VERSION:2.0
PRODID:-//2050 - ECPv6.15.20//NONSGML v1.0//EN
CALSCALE:GREGORIAN
METHOD:PUBLISH
X-WR-CALNAME:2050
X-ORIGINAL-URL:https://2050.se
X-WR-CALDESC:Händelser för 2050
REFRESH-INTERVAL;VALUE=DURATION:PT1H
X-Robots-Tag:noindex
X-PUBLISHED-TTL:PT1H
BEGIN:VTIMEZONE
TZID:Europe/Stockholm
BEGIN:DAYLIGHT
TZOFFSETFROM:+0100
TZOFFSETTO:+0200
TZNAME:CEST
DTSTART:20250330T010000
END:DAYLIGHT
BEGIN:STANDARD
TZOFFSETFROM:+0200
TZOFFSETTO:+0100
TZNAME:CET
DTSTART:20251026T010000
END:STANDARD
BEGIN:DAYLIGHT
TZOFFSETFROM:+0100
TZOFFSETTO:+0200
TZNAME:CEST
DTSTART:20260329T010000
END:DAYLIGHT
BEGIN:STANDARD
TZOFFSETFROM:+0200
TZOFFSETTO:+0100
TZNAME:CET
DTSTART:20261025T010000
END:STANDARD
BEGIN:DAYLIGHT
TZOFFSETFROM:+0100
TZOFFSETTO:+0200
TZNAME:CEST
DTSTART:20270328T010000
END:DAYLIGHT
BEGIN:STANDARD
TZOFFSETFROM:+0200
TZOFFSETTO:+0100
TZNAME:CET
DTSTART:20271031T010000
END:STANDARD
END:VTIMEZONE
BEGIN:VEVENT
DTSTART;TZID=Europe/Stockholm:20260416T090000
DTEND;TZID=Europe/Stockholm:20260416T170000
DTSTAMP:20260421T111756
CREATED:20260122T141510Z
LAST-MODIFIED:20260122T141910Z
UID:26988-1776330000-1776358800@2050.se
SUMMARY:Utbildning: Hållbara affärer – så räknar du på hållbarhetsarbetets lönsamhet
DESCRIPTION:« Alla Evenemang\n 				\n				\n				\n				\n					Detta evenemang har redan ägt rum. \n				\n				\n				\n				\n					\n	Utbildning: Hållbara affärer – så räknar du på hållbarhetsarbetets lönsamhet				\n				\n				\n				\n					\n		\n			april 16\n\n	\n\n	  kl  \n\n\n09:00\n\n		\n\n\n\n	\n	  -  \n\n17:00\n\n\n\n	\n				\n				\n				\n				\n					\n	\n				\n				\n				\n				\n									Denna utbildning lär dig att räkna på hur hållbarhetsarbetet påverkar affären och lönsamheten. Syftet med kursen är att ge dig färdigheter i att ta fram beslutsunderlag för företagssatsningar där hållbarhet och affärsmässighet går hand i hand. Under dagen går vi bland annat igenom en steg för steg-metodik i att räkna på hur olika typer av hållbarhetsprojekt påverkar företagets lönsamhet direkt och indirekt. Utbildningen arrangeras av Aktuell Hållbarhet och leds av 2050:s experter. Hållbar utveckling är en ödesfråga för mänskligheten och får allt större strategisk betydelse för företag i alla branscher. Många är övertygade om att satsningar på miljö\, klimat och socialt ansvar i de flesta fall är bra för affärerna. Samtidigt tvingar en osäker omvärld många företag att prioritera kortsiktig lönsamhet högre än långsiktigt viktiga hållbarhetsprojekt.  Denna utbildning syftar till att du ska lära dig hur du kan omsätta ett hållbarhetsprojekt till affärsvärde och hur mycket projektet faktiskt bidrar till ökad lönsamhet och kassaflöde. Under dagen går vi igenom en steg för steg-metodik för hur du kan räkna på företagets lönsamhet i ett hållbarhetsprojekt. Utgångspunkten är vedertagen metodik för hur investeringar traditionellt bedöms finansiellt\, men applicerat på hållbarhetsområdet. UTBILDNINGEN GÅR IGENOM: Hur olika typer av hållbarhetsprojekt påverkar olika branschers lönsamhetHur du räknar på direkta effekter av hållbarhetsarbete (till exempel resursbesparing eller ökad försäljning)Hur du räknar på indirekta effekter av hållbarhetsarbete (till exempel förbättrat varumärke och ökad kundlojalitet)Hur du hanterar osäkerheter i kalkylenHur en företagsledning fattar sina beslut och vilka krav det ställer på beslutsunderlag för hållbarhetsinvesteringarVilka faktorer som är viktiga för olika målgrupper inom företaget när du vill få igenom en hållbarhetsinvesteringGrundläggande ekonomiska begrepp som diskonteringsränta\, ROI och nuvärdesprincipenDatum: Torsdagen den 16 april 2026Tid: 09:00–17:00Plats: StockholmPris: 11 900 SEK exkl. moms per deltagareUtbildningsledare: Markus Ekelund\, vd på 2050 och Peter Henriksson\, seniorkonsult på 2050 								\n				\n				\n				\n									\n					\n						\n									Läs mer och anmäl dig här\n					\n					\n				\n								\n				\n				\n				\n					\n	\n		\n\n	\n	Lägg till i kalender	\n		\n	\n\n		\n			\n									\n	Google Kalender\n\n									\n	iCalendar\n\n									\n	Outlook 365\n\n									\n	Outlook Live\n\n							\n		\n\n		\n	\n\n				\n				\n		\n					\n				\n				\n							\n			\n						\n		\n						\n				\n					\n				\n				\n						\n					\n			\n						\n				\n					\n	\n		\n\n				Utbildning: Hantera hållbarhetsdata – identifiera\, samla in och rapportera	\n\n\n		\n	\n		Utbildning: VSME – värdeskapande rapportering
URL:https://2050.se/event/utbildning-hallbara-affarer-sa-raknar-du-pa-hallbarhetsarbetets-lonsamhet/
LOCATION:Stockholm
CATEGORIES:Stockholm
ATTACH;FMTTYPE=image/jpeg:https://2050.se/wp-content/uploads/2025/05/Bild_Webinar_Hallbarhrapporter.jpg
END:VEVENT
END:VCALENDAR