BEGIN:VCALENDAR
VERSION:2.0
PRODID:-//2050 - ECPv6.15.20//NONSGML v1.0//EN
CALSCALE:GREGORIAN
METHOD:PUBLISH
X-WR-CALNAME:2050
X-ORIGINAL-URL:https://2050.se
X-WR-CALDESC:Händelser för 2050
REFRESH-INTERVAL;VALUE=DURATION:PT1H
X-Robots-Tag:noindex
X-PUBLISHED-TTL:PT1H
BEGIN:VTIMEZONE
TZID:Europe/Stockholm
BEGIN:DAYLIGHT
TZOFFSETFROM:+0100
TZOFFSETTO:+0200
TZNAME:CEST
DTSTART:20240331T010000
END:DAYLIGHT
BEGIN:STANDARD
TZOFFSETFROM:+0200
TZOFFSETTO:+0100
TZNAME:CET
DTSTART:20241027T010000
END:STANDARD
BEGIN:DAYLIGHT
TZOFFSETFROM:+0100
TZOFFSETTO:+0200
TZNAME:CEST
DTSTART:20250330T010000
END:DAYLIGHT
BEGIN:STANDARD
TZOFFSETFROM:+0200
TZOFFSETTO:+0100
TZNAME:CET
DTSTART:20251026T010000
END:STANDARD
BEGIN:DAYLIGHT
TZOFFSETFROM:+0100
TZOFFSETTO:+0200
TZNAME:CEST
DTSTART:20260329T010000
END:DAYLIGHT
BEGIN:STANDARD
TZOFFSETFROM:+0200
TZOFFSETTO:+0100
TZNAME:CET
DTSTART:20261025T010000
END:STANDARD
END:VTIMEZONE
BEGIN:VEVENT
DTSTART;TZID=Europe/Stockholm:20251106T083000
DTEND;TZID=Europe/Stockholm:20251106T092500
DTSTAMP:20260421T093623
CREATED:20251023T101512Z
LAST-MODIFIED:20251024T104513Z
UID:25552-1762417800-1762421100@2050.se
SUMMARY:Webbinarium: Hitta rätt nivå och få ut mer av hållbarhetsrapporten
DESCRIPTION:« Alla Evenemang\n 				\n				\n				\n				\n					Detta evenemang har redan ägt rum. \n				\n				\n				\n				\n					\n	Webbinarium: Hitta rätt nivå och få ut mer av hållbarhetsrapporten				\n				\n				\n				\n					\n		\n			november 6\n\n	\n\n	  kl  \n\n\n08:30\n\n		\n\n\n\n	\n	  -  \n\n09:25\n\n\n\n	\n				\n				\n				\n				\n					\n	\n				\n				\n				\n				\n									Hur mycket är lagom? I takt med att regelverken för hållbarhetsrapportering förändras står många företag inför frågan: Hur hittar vi rätt nivå på vår hållbarhetsrapportering? Under detta webbinarium får du konkreta råd\, vägledning och verktyg för att skapa en rapport som är relevant\, trovärdig och användbar – och som skapar mervärde både internt och externt. Webbinariet gästas av kommunikationsbyrån Advant som visar hur form och budskap kan förvandla hållbarhetsrapporten till ett kraftfullt kommunikationsverktyg – och hur materialet kan användas i fler kanaler för större genomslag. Agenda: Välkomna och introduktion5 steg för att hitta rätt nivå på hållbarhetsrapporten1. Orientera dig i det nya landskapet2. Identifiera målgrupp och nyttan med rapporten3. Sätt ramarna för rapportens innehåll4. Samla in data – både kvalitativ och kvantitativ5. Skriv\, granska och kommuniceraKommunikationsbyrån Advant om hur form och budskap kan förvandla hållbarhetsrapporten till ett kraftfullt kommunikationsverktyg\, och hur det kan tas ut i andra kanalerSummering och frågorTalare2050:s experter inom hållbarhetsrapportering\, Lova Rosenqvist och Ronja Widing samt Linda Jonsson\, vd och hållbarhetsstrateg på Advant. Kort om AdvantAdvant är Värmlands största kommunikationsbyrå och levererar tjänster inom kommunikation\, design och hållbarhet. Läs mer på deras hemsida >>  Datum: Torsdagen den 6 november 2025Tid: 08:30–09:25Plats: DigitaltPris: Kostnadsfritt 								\n				\n				\n				\n									\n					\n						\n									Läs mer och anmäl dig här\n					\n					\n				\n								\n				\n				\n				\n					\n	\n		\n\n	\n	Lägg till i kalender	\n		\n	\n\n		\n			\n									\n	Google Kalender\n\n									\n	iCalendar\n\n									\n	Outlook 365\n\n									\n	Outlook Live\n\n							\n		\n\n		\n	\n\n				\n				\n		\n					\n				\n				\n							\n			\n						\n		\n						\n				\n					\n				\n				\n						\n					\n			\n						\n				\n					\n	\n		\n\n				Utbildning: Biologisk mångfald för företag – analysera påverkan\, bedöma risker och rapportera	\n\n\n		\n	\n		Seminarium: Hållbarhet som konkurrensfördel
URL:https://2050.se/event/webbinarium-hitta-ratt-niva-och-fa-ut-mer-av-hallbarhetsrapporten/
LOCATION:Digitalt
CATEGORIES:Digitalt
ATTACH;FMTTYPE=image/jpeg:https://2050.se/wp-content/uploads/2025/02/Utb_CirkularEkonomi_v2.jpg
END:VEVENT
END:VCALENDAR